BEGIN:VCALENDAR
VERSION:2.0
PRODID:SchoolNow
CALSCALE:GREGORIAN
BEGIN:VEVENT
UID:187e77f6-08e7-11f0-a476-0a58a9feac02
DTSTAMP:20260423T134007Z
SUMMARY:Early Release K-6 12:30
URL;VALUE=URI:https://www.slrsd.org/calendar/7762881/early-release-k-6-12-3
 0
DTSTART;VALUE=DATE:20260604
DTEND;VALUE=DATE:20260605
END:VEVENT
END:VCALENDAR
