BEGIN:VCALENDAR
VERSION:2.0
PRODID:SchoolNow
CALSCALE:GREGORIAN
BEGIN:VEVENT
UID:187e76fc-08e7-11f0-a75a-0a58a9feac02
DTSTAMP:20260423T134007Z
SUMMARY:Early Release K-6 12:30 Parent Conferences
URL;VALUE=URI:https://www.slrsd.org/calendar/7762880/early-release-k-6-12-3
 0-parent-conferences
DTSTART;VALUE=DATE:20260326
DTEND;VALUE=DATE:20260327
END:VEVENT
END:VCALENDAR
