BEGIN:VCALENDAR
VERSION:2.0
PRODID:SchoolNow
CALSCALE:GREGORIAN
BEGIN:VEVENT
UID:187e74fe-08e7-11f0-9461-0a58a9feac02
DTSTAMP:20260423T134007Z
SUMMARY:Early Release K-6 12:30\; 7-12 10:45 a.m.
URL;VALUE=URI:https://www.slrsd.org/calendar/7762878/early-release-k-6-12-3
 0-7-12-10-45-a-m
DTSTART;VALUE=DATE:20260312
DTEND;VALUE=DATE:20260313
END:VEVENT
END:VCALENDAR
